Workbook

Sheet NH18-19
B1: HK1 | C1: Đv | D1: KL thực/lớp | E1: Số nhóm | F1: Kl thực | G1: Hiệp | H1: Huân | I1: Thì | J1: Hòa | K1: Quang | L1: Hào | M1: Quý | N1: Viết | O1: Khoa | P1: Liêm | Q1: TG | R1: TG | S1: TG | U1: TT | V1: HK 2 | W1: số lớp | X1: Sĩ số | Y1: Nhóm | Z1: Đv | AA1: KL thực/Lớp | AB1: Số nhóm | AC1: Kl thực | AD1: Hiệp | AE1: Huân | AF1: Thì | AG1: Hòa | AH1: Quang | AI1: Hào | AJ1: Quý | AK1: Viết | AL1: Khoa | AM1: Lực | AN1: Liêm | AO1: TG | AP1: TG
B2: 16 TCN-LĐL-9+3- Hào- SS: 45 | G2: =SUM(G3:G132) -> 270 | H2: =SUM(H3:H132) -> 367.5 | I2: =SUM(I3:I132) -> 472.5 | J2: =SUM(J3:J132) -> 495 | K2: =SUM(K3:K132) -> 330 | L2: =SUM(L3:L132) -> 457.5 | M2: =SUM(M3:M132) -> 427.5 | N2: =SUM(N3:N132) -> 305 | ... P2: =SUM(P3:P132) -> 30 | R2: =SUM(R3:R132) -> 0 | S2: =SUM(S3:S132) -> 0 | V2: 16 TCN-LĐL-9+3- Hào, ss:44 | W2: 1 | X2: 6 | Y2: 1 | AD2: =SUM(AD3:AD132) -> 470 | AE2: =SUM(AE3:AE132) -> 517.5 | AF2: =SUM(AF3:AF132) -> 397.5 | AG2: =SUM(AG3:AG132) -> 390 | AH2: =SUM(AH3:AH132) -> 285 | AI2: =SUM(AI3:AI132) -> 420 | AJ2: =SUM(AJ3:AJ132) -> 337.5 | AK2: =SUM(AK3:AK132) -> 360 | ... AP2: =SUM(AP3:AP132) -> 0
A3: 1 | B3: Điện tử chuyên ngành-60 (10-47-3) | C3: 30 | D3: =C3 -> 30 | F3: =D3 -> 30 | U3: 1 | V3: Lắp đặt hệ thống Điều hòa KK cục bộ- | Z3: 120 | AA3: =Z3*0.75 -> 90 | AC3: =AA3 -> 90 | AI3: =AA3 -> 90
A4: 2 | B4: Đo lường điện lạnh-45(20-23-2) | C4: 45 | D4: =C4 -> 45 | F4: =D4 -> 45 | N4: 45 | U4: 2 | V4: Chuyên đề Máy lạnh-45(20-20-5) | Y4: 1 | Z4: 45 | AA4: =Z4 -> 45 | AC4: 45 | AD4: 45
A5: 3 | B5: Vật liệu điện lạnh-30 (26-2-2) | C5: 30 | D5: =C5 -> 30 | F5: =D5 -> 30 | K5: 30 | U5: 3 | V5: Gia công lắp đặt đường ống -60(12-45-3) | Z5: 60 | AA5: =Z5*0.75 -> 45 | AC5: =Z5*0.75 -> 45 | AJ5: =AA5 -> 45
A6: 4 | B6: Bơm quạt máy nén-30 (18-10-2) | C6: 30 | D6: =C6 -> 30 | F6: =D6 -> 30 | G6: 30 | U6: 4 | V6: TT Tốt nghiệp | Z6: 165 | AA6: =Z6 -> 165
A7: 5 | B7: Auto cad-30 (14-15-1) | C7: 30 | D7: =C7 -> 30 | F7: =D7 -> 30 | H7: 30 | U7: 5 | V7: Điện tử công suất (15-28-2) 45t | Z7: 45 | AA7: =Z7 -> 45 | AQ7: a thif muoons dayj 16 TCN-LDDL
A8: 6 | B8: Lắp đặt hệ thống máy lạnh dân dụng-150 | C8: 150 | D8: =C8*0.75 -> 112.5 | F8: =D8 -> 112.5 | I8: =F8 -> 112.5 | U8: 6 | V8: Pháp luật -15t | Z8: 15t
A9: 7 | B9: Điều hòa không khí ôtô-30 (13-15-2) | C9: 30 | D9: =C9 -> 30 | F9: =D9 -> 30 | I9: 30 | U9: 7 | V9: PLC-60(10-47-3)-60t | Z9: 60t
A10: 8 | B10: Chính trị | C10: 30t
A11: 9 | B11: GD Quốc phòng-An ninh | C11: 120t
D12: =C12 -> 0
B13: 16CD 1,2,3 -Phong -Liêm -Quang SS: 51-45-41 | C13: Đv | D13: KL thực/lớp | F13: Kl thực | G13: Hiệp | H13: Huân,2 | I13: Thì,2,3 | J13: Hòa,1,3 | K13: Quang | L13: Hào | M13: Quý | N13: Viết | O13: Khoa | P13: Liêm | Q13: TG | R13: TG | S13: TG | V13: 16CD 1,2,3 -Quang- Hào, ss:51-45-41 | W13: 3 | X13: 113 | Y13: 4 | Z13: Đv | AA13: KL thực/lớp | AC13: Kl thực | AD13: Hiệp,1 | AE13: Huân | AF13: Thì | AG13: Hòa | AH13: Quang | AI13: Hào | AJ13: Quý | AK13: Viết | AL13: Khoa | AM13: Lực | AN13: Liêm | AO13: TG | AP13: TG
A14: 1 | B14: KT Sấy -2 | C14: 30 | D14: =C14 -> 30 | F14: =D14*3 -> 90 | N14: =F14 -> 90 | U14: 1 | V14: Thực tập HT điều hòa không khí ô tô | Z14: 30 | AA14: =Z14*0.75 -> 22.5 | AC14: =AA14*3 -> 67.5 | AF14: =AC14 -> 67.5
A15: 2 | B15: Vận hành & Bảo trì HTL- 2 | C15: 30 | D15: =C15 -> 30 | F15: =D15*3 -> 90 | K15: =F15 -> 90 | U15: 2 | V15: Kỹ thuật lạnh ứng dụng | Z15: 30 | AA15: =Z15 -> 30 | AC15: =AA15*3 -> 90 | AD15: 30 | AF15: =AA15*2 -> 60
A16: 3 | B16: Xây dựng trạm lạnh-2 | C16: 30 | D16: =C16 -> 30 | F16: =D16*3 -> 90 | O16: =F16 -> 90 | U16: 3 | V16: Đồ án chuyên ngành | Z16: 25 | AA16: =Z16 -> 25 | AC16: =AA16*3 -> 75 | AK16: =AC16 -> 75
A17: 4 | B17: TT Trang bị điện HTL-3 | C17: 90 | D17: =C17*0.75 -> 67.5 | F17: =D17*3 -> 202.5 | H17: =C17*0.75 -> 67.5 | J17: =D17*2 -> 135 | U17: 4 | V17: Thực tập tốt nghiệp | Z17: 120 | AA17: =Z17 -> 120
A18: 5 | B18: TT Vận hành bảo trì & SC HTL công nghiệp-3 | C18: 90 | D18: =C18*0.75 -> 67.5 | F18: =D18*3 -> 202.5 | H18: =F18 -> 202.5 | U18: 5 | V18: Phương pháp NCKH | Z18: 30 | AA18: =Z18 -> 30 | AC18: =AA18*3 -> 90 | AD18: =AC18 -> 90
A19: 6 | B19: TT Lắp đặt HTL-3 | C19: 90 | D19: =C19*0.75 -> 67.5 | F19: =D19*3 -> 202.5 | I19: =D19*2 -> 135 | Q19: =D19 -> 67.5 | R19: Thiện
A20: 7 | B20: Anh văn chuyên ngành-2 | C20: 30t | D20: =C20 -> 30t
B21: 17 T4- TCN-LĐL1,2 -9+3- Huân, Quí | C21: Đv | D21: KL thực/lớp | F21: Kl thực | G21: Hiệp | H21: Huân | I21: Thì | J21: Hòa | K21: Quang | L21: Hào,1 | M21: Quý,2 | N21: Viết,2 | O21: Khoa,1 | P21: Liêm | Q21: TG | R21: TG | S21: TG | V21: 17 T4- TCN -LĐL1,2 9+3- Huân,Quý, ss:40-37 | W21: 3 | Z21: Đv | AA21: KL thực/lớp | AC21: Kl thực | AD21: Hiệp | AE21: Huân,1 | AF21: Thì | AG21: Hòa,2 | AH21: Quang,1 | AI21: Hào | AJ21: Quý,2 | AK21: Viết | AL21: Khoa,2 | AM21: Lực | AN21: Liêm | AO21: TG | AP21: TG
A22: 1 | B22: Hoá học 1 | U22: 1 | V22: Hoá học 2
A23: 2 | B23: Toán 3 | U23: 2 | V23: Toán 4
A24: 3 | B24: Ngữ văn 3 | U24: 3 | V24: Ngữ văn 4
A25: 4 | B25: Vật lý 2 | U25: 4 | V25: Vật lý 3
A26: 5 | B26: Cơ sở nhiệt động kỹ thuật và truyền nhiệt | C26: 60 | D26: =C26 -> 60 | F26: =D26*2 -> 120 | N26: =D26 -> 60 | O26: =C26 -> 60 | U26: 5 | V26: Trang bị điện hệ thống lạnh | Z26: 30 | AA26: =Z26 -> 30 | AC26: =AA26*2 -> 60 | AI26: =AA26 -> 30 | AJ26: =AA26 -> 30
A27: 6 | B27: Thực tập Lạnh cơ bản | C27: 90 | D27: =C27*0.75 -> 67.5 | F27: =D27*2 -> 135 | L27: =D27 -> 67.5 | M27: =D27 -> 67.5 | U27: 6 | V27: Kỹ thuật điều hoà không khí | Z27: 45 | AA27: =Z27 -> 45 | AC27: =AA27*2 -> 90 | AL27: =AA27 -> 45 | AO27: =AA27 -> 45 | AP27: Lành,1 | AQ27: tập trung 1 Buổi chiều
A28: 7 | B28: Tin học 4(2/2) | U28: 7 | V28: Thực tập hệ thống điều hoà không khí cục bộ | Z28: 90 | AA28: =Z28*0.75 -> 67.5 | AC28: =AA28*2 -> 135 | AE28: =AA28 -> 67.5 | AG28: =AA28 -> 67.5
A29: 8 | U29: 8 | V29: Anh văn- 60
B30: 17 T4- TCN-CNL1 -9+3-Khoa | C30: Đv | D30: KL thực/lớp | F30: Kl thực | G30: Hiệp | H30: Huân | I30: Thì | J30: Hòa | K30: Quang | L30: Hào | M30: Quý | N30: Viết | O30: Khoa | P30: Liêm | Q30: TG | R30: TG | S30: TG | V30: 17 T4- TCN -CNL1-9+3- Khoa, ss:49 | W30: 3 | Z30: Đv | AA30: KL thực/lớp | AC30: Kl thực | AD30: Hiệp | AE30: Huân | AF30: Thì | AG30: Hòa | AH30: Quang | AI30: Hào | AJ30: Quý | AK30: Viết | AL30: Khoa | AM30: Lực | AN30: Liêm | AO30: TG | AP30: TG
A31: 1 | B31: Hoá học 1 | U31: 1 | V31: Hoá học 2
A32: 2 | B32: Toán 3 | U32: 2 | V32: Toán 4
A33: 3 | B33: Ngữ văn 3 | U33: 3 | V33: Ngữ văn 4
A34: 4 | B34: Vật lý 2 | U34: 4 | V34: Vật lý 3
A35: 5 | B35: Cơ sở nhiệt động kỹ thuật và truyền nhiệt | C35: 60 | D35: =C35 -> 60 | F35: 60 | N35: =C35 -> 60 | U35: 5 | V35: Trang bị điện hệ thống lạnh | Z35: 30 | AA35: =Z35 -> 30 | AC35: =AA35 -> 30 | AI35: =AA35 -> 30 | AQ35: t7 | AR35: nhiệt động
A36: 6 | B36: Thực tập Lạnh cơ bản | C36: 90 | D36: =C36*0.75 -> 67.5 | F36: =C36*0.75 -> 67.5 | M36: =F36 -> 67.5 | U36: 6 | V36: Kỹ thuật điều hoà không khí | Z36: 45 | AA36: =Z36 -> 45 | AC36: =AA36 -> 45 | AO36: =AA36 -> 45 | AP36: Lành | AQ36: t7 | AR36: Chuyên đề máy lạnh
A37: 7 | B37: Tin học 4(2/2) | U37: 7 | V37: Thực tập hệ thống điều hoà không khí cục bộ | Z37: 90 | AA37: =Z37*0.75 -> 67.5 | AC37: =AA37 -> 67.5 | AE37: =AA37 -> 67.5
A38: 8 | U38: 8 | V38: Anh văn- 60
B39: 17 CD-CNL-1-Viết SS: 59 | C39: Đv | D39: KL thực/lớp | F39: Kl thực | G39: Hiệp | H39: Huân | I39: Thì | J39: Hòa | K39: Quang | L39: Hào | M39: Quý | N39: Viết | O39: Khoa | P39: Liêm | Q39: TG | R39: TG | S39: TG | V39: 17 CD-CNL1, 58 | W39: 3 | Z39: Đv | AA39: KL thực/lớp | AC39: Kl thực | AD39: Hiệp | AE39: Huân | AF39: Thì | AG39: Hòa | AH39: Quang | AI39: Hào | AJ39: Quý | AK39: Viết | AL39: Khoa | AM39: Lực | AN39: Liêm | AO39: TG | AP39: TG
A40: 1 | B40: Pháp luật | U40: 1 | V40: Vận hành bảo trì hệ thống lạnh | W40: 1 | X40: DÀNH CNL | Z40: 45 | AA40: =Z40 -> 45 | AC40: =AA40 -> 45 | AH40: 45
A41: 2 | B41: Anh văn chuyên ngành | U41: 2 | V41: Kỹ thuật sấy | W41: 3 | Z41: 30 | AA41: =Z41 -> 30 | AC41: =AA41 -> 30 | AK41: 30
A42: 3 | B42: Kỹ thuật điều hoà không khí | C42: 45 | D42: =C42 -> 45 | F42: =D42 -> 45 | G42: 45 | U42: 3 | V42: Lò hơi | W42: 1 | X42: DÀNH CNL | Z42: 30 | AA42: =Z42 -> 30 | AC42: =AA42 -> 30 | AD42: 30
A43: 4 | B43: Bơm - Quạt - Máy nén | C43: 30 | D43: =C43 -> 30 | F43: =D43 -> 30 | L43: =F43 -> 30 | U43: 4 | V43: Thực tập hệ thống điều hòa không khí cục bộ | W43: 3 | Z43: 90 | AA43: =Z43*0.75 -> 67.5 | AC43: =AA43 -> 67.5 | AG43: =AA43 -> 67.5
A44: 5 | B44: Điện tử cơ bản | C44: 30 | D44: =C44 -> 30 | F44: =D44 -> 30 | K44: =F44 -> 30 | U44: 5 | V44: Thực tập hệ thống máy lạnh công nghiệp | W44: 3 | Z44: 90 | AA44: =Z44*0.75 -> 67.5 | AC44: =AA44 -> 67.5 | AE44: =AA44 -> 67.5
A45: 6 | B45: Thực tập hệ thống máy lạnh dân dụng và thương nghiệp | C45: 90 | D45: =C45*0.75 -> 67.5 | F45: =D45 -> 67.5 | L45: =F45 -> 67.5 | U45: 6 | V45: Đồ án 2 | W45: 3 | Z45: 25 | AA45: =Z45 -> 25 | AC45: =AA45 -> 25 | AK45: =AA45 -> 25
A46: 7 | B46: Thực tập trang bị điện HT lạnh | C46: 90 | D46: =C46*0.75 -> 67.5 | F46: =D46 -> 67.5 | J46: =F46 -> 67.5 | U46: 7 | V46: Thực tập tốt nghiệp | W46: 3 | Z46: 270 | AA46: =Z46 -> 270 | AC46: =AA46 -> 270
A47: 8 | B47: Đồ án 1 | C47: 25 | D47: =C47 -> 25 | F47: =D47 -> 25 | G47: =C47 -> 25 | U47: 8 | V47: Chuyên đề máy lạnh | W47: 3 | Z47: 30 | AA47: =Z47 -> 30 | AC47: =AA47 -> 30 | AD47: 30
A48: 9 | B48: Xây dựng trạm lạnh-2 | C48: 30 | D48: =C48 -> 30 | F48: =D48 -> 30 | O48: 30
A49: 10 | B49: Điều hòa không khí ôtô 2(1/1) | C49: =15+30 -> 45 | D49: =C49 -> 45 | F49: =D49 -> 45 | I49: =D49 -> 45
B50: 17 CD- KML 1, 2 - Lợi, Chi SS: 52-34 | C50: Đv | D50: KL thực/lớp | F50: Kl thực | G50: Hiệp | H50: Huân | I50: Thì | J50: Hòa | K50: Quang | L50: Hào | M50: Quý | N50: Viết | O50: Khoa | P50: Liêm | Q50: TG | R50: TG | S50: TG | V50: 17 CD-- KML1,2, ss:52-34 | W50: 3 | Z50: Đv | AA50: KL thực/lớp | AC50: Kl thực | AD50: Hiệp | AE50: Huân | AF50: Thì | AG50: Hòa | AH50: Quang | AI50: Hào | AJ50: Quý | AK50: Viết | AL50: Khoa | AM50: Lực | AN50: Liêm | AO50: TG | AP50: TG
A51: 1 | B51: Pháp luật | U51: 1 | V51: Đo lường Điện - Lạnh | W51: 2 | X51: DÀNH KML | Z51: 30 | AA51: =Z51 -> 30 | AC51: =AA51*2 -> 60 | AL51: 60
A52: 2 | B52: Anh văn chuyên ngành | U52: 2 | V52: Kỹ thuật sấy | W52: 3 | Z52: 30 | AA52: =Z52 -> 30 | AC52: =AA52*2 -> 60 | AK52: =2*Z52 -> 60
A53: 3 | B53: Kỹ thuật điều hoà không khí | C53: 45 | D53: =C53 -> 45 | F53: =2*D53 -> 90 | Q53: 90 | R53: út hiền | U53: 3 | V53: Thực tập ht điều hòa không khí trung tâm | W53: 2 | X53: DÀNH KML | Z53: 90 | AA53: =Z53*0.75 -> 67.5 | AC53: =AA53*2 -> 135 | AF53: =AC53 -> 135
A54: 4 | B54: Bơm - Quạt - Máy nén | C54: 30 | D54: =C54 -> 30 | F54: =2*D54 -> 60 | L54: =F54 -> 60 | U54: 4 | V54: Thực tập hệ thống máy lạnh cục bộ | W54: 3 | Z54: 90 | AA54: =Z54*0.75 -> 67.5 | AC54: =AA54*2 -> 135 | AJ54: =AC54 -> 135
A55: 5 | B55: Điện tử cơ bản | C55: 30 | D55: =C55 -> 30 | F55: =2*D55 -> 60 | K55: 60 | U55: 5 | V55: Thực tập hệ thống máy lạnh công nghiệp | W55: 3 | Z55: 90 | AA55: =Z55*0.75 -> 67.5 | AC55: =AA55*2 -> 135 | AO55: =2*AA55 -> 135 | AP55: T.Thiện | AQ55: 2 ngày sát nhau
A56: 6 | B56: Thực tập HT máy lạnh dân dụng và thương nghiệp | C56: 90 | D56: =C56*0.75 -> 67.5 | F56: =2*D56 -> 135 | M56: =F56 -> 135 | U56: 6 | V56: Đồ án 2 | W56: 3 | Z56: 25 | AA56: =Z56 -> 25 | AC56: =AA56*2 -> 50 | AK56: =AC56 -> 50
A57: 7 | B57: Thực tập trang bị điện HT lạnh | C57: 90 | D57: =C57*0.75 -> 67.5 | F57: =2*D57 -> 135 | J57: =F57 -> 135 | U57: 7 | V57: Thực tập tốt nghiệp | W57: 3 | Z57: 270 | AA57: =Z57 -> 270 | AC57: =AA57*2 -> 540
A58: 8 | B58: Đồ án 1 | C58: 25 | D58: =C58 -> 25 | F58: =2*D58 -> 50 | G58: =C58 -> 25 | N58: =C58 -> 25 | U58: 8 | V58: Chuyên đề máy lạnh | W58: 3 | Z58: 30 | AA58: =Z58 -> 30 | AC58: =AA58*2 -> 60 | AD58: =AC58 -> 60
A59: 9 | B59: Thiết kế lắp đặt sơ bộ hệ thống máy lạnh | C59: 30 | D59: =C59 -> 30 | F59: =2*D59 -> 60 | O59: =F59 -> 60
A60: 10 | B60: Điều hòa không khí ôtô 2(1/1) | C60: 45 | D60: =15+30*0.75 -> 37.5 | F60: =2*D60 -> 75 | I60: =F60 -> 75
D61: =C61 -> 0
D62: =C62 -> 0
B63: 17 CD-VSL1,2-Huyền Nga, Trang - SS : SS 45-52 | C63: Đv | D63: KL thực/lớp | F63: Kl thực | G63: Hiệp,1 | H63: Huân,1 | I63: Thì | J63: Hòa,2 | K63: Quang | L63: Hào | M63: Quý | N63: Viết,2 | O63: Khoa | P63: Liêm | Q63: TG | R63: TG | S63: TG | V63: 17 CD-VSL 1,2, ss:45-51 | W63: 2 | Z63: Đv | AA63: KL thực/lớp | AC63: Kl thực | AD63: Hiệp | AE63: Huân | AF63: Thì | AG63: Hòa | AH63: Quang | AI63: Hào | AJ63: Quý | AK63: Viết | AL63: Khoa | AM63: Lực | AN63: Liêm | AO63: TG | AP63: TG
A64: 1 | B64: Pháp luật | U64: 1 | V64: Kỹ thuật sấy | Z64: 30 | AA64: =Z64 -> 30 | AC64: =AA64*2 -> 60 | AK64: =2*Z64 -> 60
A65: 2 | B65: Anh văn chuyên ngành | U65: 2 | V65: Thực tập hệ thống máy lạnh cục bộ | Z65: 90 | AA65: =Z65*0.75 -> 67.5 | AC65: =AA65*2 -> 135 | AI65: =AC65 -> 135
A66: 3 | B66: Kỹ thuật điều hoà không khí | C66: 45 | D66: =C66 -> 45 | F66: =2*C66 -> 90 | Q66: 90 | R66: Lành | U66: 3 | V66: Thực tập hệ thống máy lạnh công nghiệp | Z66: 90 | AA66: =Z66*0.75 -> 67.5 | AC66: =AA66*2 -> 135 | AE66: =AC66 -> 135
A67: 4 | B67: Bơm - Quạt - Máy nén | C67: 30 | D67: =C67 -> 30 | F67: =2*C67 -> 60 | G67: 60 | U67: 4 | V67: Thực tập HT điều hòa không khí trung tâm | Z67: 90 | AA67: =Z67*0.75 -> 67.5 | AC67: =AA67*2 -> 135 | AF67: =AC67 -> 135
A68: 5 | B68: Điện tử cơ bản | C68: 30 | D68: =C68 -> 30 | F68: =2*C68 -> 60 | K68: 60 | U68: 5 | V68: Đồ án 2 | Z68: 25 | AA68: =Z68 -> 25 | AC68: =AA68*2 -> 50 | AD68: =AC68 -> 50
A69: 6 | B69: Thực tập hệ thống máy lạnh dân dụng và thương nghiệp | C69: 90 | D69: =C69 -> 90 | F69: =2*C69*0.75 -> 135 | O69: =F69 -> 135 | U69: 6 | V69: Thực tập tốt nghiệp | Z69: 270 | AA69: =Z69 -> 270 | AC69: =AA69*2 -> 540
A70: 7 | B70: Thực tập trang bị điện HT lạnh | C70: 90 | D70: =C70 -> 90 | F70: =2*C70*0.75 -> 135 | H70: =C70*0.75 -> 67.5 | J70: =C70*0.75 -> 67.5 | U70: 7 | V70: Chuyên đề máy lạnh | Z70: 30 | AA70: =Z70 -> 30 | AC70: =AA70*2 -> 60 | AD70: =AA70 -> 30 | AN70: =AA70 -> 30
A71: 8 | B71: Đồ án 1 | C71: 25 | D71: =C71 -> 25 | F71: =2*C71 -> 50 | G71: =C71 -> 25 | N71: 25 | U71: 8 | V71: Tự động hóa hệ thống lạnh | Z71: 30 | AA71: =Z71 -> 30 | AC71: =AA71*2 -> 60 | AG71: =AC71 -> 60
A72: 9 | B72: Điều hòa không khí ôtô 2(1/1) | C72: 45 | D72: =15+30*0.75 -> 37.5 | F72: =2*(15+(30*0.75)) -> 75 | I72: =F72 -> 75
A73: 10 | B73: Kỹ thuật lạnh thực phẩm | C73: 30 | D73: =C73 -> 30 | F73: =2*C73 -> 60 | G73: =D73 -> 30 | P73: =D73 -> 30
B74: 18 T4- TCN -9+3- Chì, Hòa VSL 1,2 | C74: Đv | D74: KL thực/lớp | F74: Kl thực | G74: Hiệp | H74: Huân | I74: Thì | J74: Hòa | K74: Quang | L74: Hào,1 | M74: Quý,2 | N74: Viết | O74: Khoa | P74: Liêm | Q74: TG | R74: TG | S74: TG | V74: 18 T4- TCN -9+3-VSL1,2, ss:65-66 | W74: 3 | Z74: Đv | AA74: KL thực/lớp | AC74: Kl thực | AD74: Hiệp | AE74: Huân | AF74: Thì | AG74: Hòa | AH74: Quang | AI74: Hào | AJ74: Quý | AK74: Viết | AL74: Khoa | AM74: Lực | AN74: Liêm | AO74: TG | AP74: TG | AQ74: Xong
A75: 1 | B75: Toán 1 | U75: 1 | V75: Toán 2-4 | Z75: 60t
A76: 2 | B76: Ngữ văn 1 | U76: 2 | V76: Ngữ văn 2 | Z76: 60t
A77: 3 | B77: An toàn lao động điện lạnh | C77: 30 | D77: =C77 -> 30 | F77: =D77*2 -> 60 | K77: =2*C77 -> 60 | U77: 3 | V77: Vật lý 1 | Z77: 60t
A78: 4 | B78: Thực tập Lạnh cơ bản | C78: 90 | D78: =C78*0.75 -> 67.5 | F78: =D78*2 -> 135 | L78: =D78 -> 67.5 | M78: =D78 -> 67.5 | U78: 4 | V78: CT2- PL1-GDTC 1 | Z78: 30
A79: 5 | B79: Kỹ năng mềm | U79: 5 | V79: Cơ sở nhiệt động kỹ thuật & truyền nhiệt-4 | Z79: 60 | AA79: =Z79 -> 60 | AC79: =AA79*2 -> 120 | AL79: =AA79*2 -> 120 | AR79: Phan Hữu Lực
A80: 6 | B80: Thực tập gò hàn | C80: 60 | U80: 6 | V80: GD Quốc phòng-An ninh
B81: 18 T4- TCN -9+3- Thì KML1 | C81: Đv | D81: KL thực/lớp | F81: Kl thực | G81: Hiệp | H81: Huân | I81: Thì | J81: Hòa | K81: Quang | L81: Hào | M81: Quý | N81: Viết | O81: Khoa | P81: Liêm | Q81: TG | R81: TG | S81: TG | V81: 18 T4- TCN -9+3-KML1, ss:46 | W81: 3 | Z81: Đv | AA81: KL thực/lớp | AC81: Kl thực | AD81: Hiệp | AE81: Huân | AF81: Thì | AG81: Hòa | AH81: Quang | AI81: Hào | AJ81: Quý | AK81: Viết | AL81: Khoa | AM81: Lực | AN81: Liêm | AO81: TG | AP81: TG | AQ81: Xong
A82: 1 | B82: Toán 1 | U82: 1 | V82: Toán 2-4 | Z82: 60t
A83: 2 | B83: Ngữ văn 1 | U83: 2 | V83: Ngữ văn 2 | Z83: 60t
A84: 3 | B84: An toàn lao động điện lạnh | C84: 30 | D84: =C84 -> 30 | F84: 30 | G84: =D84 -> 30 | U84: 3 | V84: Vật lý 1 | Z84: 60t
A85: 4 | B85: Cơ sở ktd | C85: 45 | D85: =C85 -> 45 | F85: 45 | L85: 45 | U85: 4 | V85: CT2- PL1-GDTC 1 | Z85: 30
A86: 5 | B86: Kỹ năng mềm | D86: =C86 -> 0 | U86: 5 | V86: Cơ sở nhiệt động kỹ thuật & truyền nhiệt-4 | Z86: 60 | AA86: =Z86 -> 60 | AC86: =AA86 -> 60 | AM86: =AA86 -> 60
A87: 6 | B87: Thực tập gò hàn | C87: 60 | D87: =C87 -> 60 | U87: 6 | V87: GD Quốc phòng-An ninh
B88: 18 CD-VSL- 1,2,3 | C88: Đv | D88: KL thực/lớp | F88: Kl thực | G88: Hiệp | H88: Huân | I88: Thì | J88: Hòa | K88: Quang | L88: Hào,2 | M88: Quý | N88: Viết | O88: Khoa | P88: Liêm | Q88: TG | R88: TG | S88: TG | V88: 18 CD-VSL-1,2,3, ss:60-58-59 | W88: 3 | Z88: Đv | AA88: KL thực/lớp | AC88: Kl thực | AD88: Hiệp | AE88: Huân | AF88: Thì | AG88: Hòa | AH88: Quang,1 | AI88: Hào,1 | AJ88: Quý2,3 | AK88: Viết | AL88: Khoa,1 | AM88: Lực | AN88: Liêm,2 | AO88: TG | AP88: TG
A89: 1 | B89: Chính trị | C89: 90t | D89: =C89 -> 90t | U89: 1 | V89: Kỹ năng mềm
A90: 2 | B90: GD Quốc phòng-An ninh | C90: 120t | D90: =C90 -> 120t | U90: 2 | V90: An toàn lao động điện lạnh-2 | Z90: 30 | AA90: =Z90 -> 30 | AC90: =AA90*3 -> 90 | AG90: =AA90*2 -> 60 | AH90: =AA90 -> 30
A91: 3 | B91: Cơ sở ktd | C91: 45 | D91: =C91 -> 45 | F91: =C91*3 -> 135 | L91: 45 | Q91: =C91*2 -> 90 | R91: Lê Huân,1,3 | U91: 3 | V91: Cơ sở nhiệt động kỹ thuật & truyền nhiệt-4 | Z91: 60 | AA91: =Z91 -> 60 | AC91: =AA91*3 -> 180 | AL91: 60 | AN91: =AA91*2 -> 120
U92: 4 | V92: Cơ sở Kỹ thuật Lạnh | Z92: 45 | AA92: =Z92 -> 45 | AC92: =AA92*3 -> 135 | AL92: =2*AA92 -> 90 | AM92: =AA92 -> 45
D93: =C93 -> 0 | U93: 5 | V93: Trang bị điện HTL-2 | Z93: 30 | AA93: =Z93 -> 30 | AC93: =AA93*3 -> 90 | AH93: =AA93 -> 30 | AJ93: =AA93*2 -> 60
D94: =C94 -> 0 | U94: 6 | V94: AutoCAD | Z94: 30 | AA94: =Z94 -> 30 | AC94: =AA94*3 -> 90 | AE94: =AC94 -> 90
D95: =C95 -> 0 | U95: 7 | V95: TT Lạnh cơ bản | Z95: 90 | AA95: =Z95*0.75 -> 67.5 | AC95: =AA95*3 -> 202.5 | AI95: =AA95 -> 67.5 | AJ95: =AA95 -> 67.5 | AO95: =AA95 -> 67.5 | AP95: A Bình | AQ95: t6,t7
D96: =C96 -> 0 | U96: 8 | V96: TT gò - hàn | Z96: 60t
D97: =C97 -> 0 | U97: 9 | V97: Vẽ KT | Z97: 30t
D98: =C98 -> 0
D99: =C99 -> 0
B100: 18 CD-CNL1 | C100: Đv | D100: KL thực/lớp | F100: Kl thực | G100: Hiệp | H100: Huân | I100: Thì | J100: Hòa | K100: Quang | L100: Hào | M100: Quý | N100: Viết | O100: Khoa | P100: Liêm | Q100: TG | R100: TG | S100: TG | V100: 18 CD-CNL1, ss:65 | W100: 3 | Z100: Đv | AA100: KL thực/lớp | AC100: Kl thực | AD100: Hiệp | AE100: Huân | AF100: Thì | AG100: Hòa | AH100: Quang | AI100: Hào | AJ100: Quý | AK100: Viết | AL100: Khoa | AM100: Lực | AN100: Liêm | AO100: TG | AP100: TG
...

Sheet Sheet1
E4: Hiệp | F4: Huân | G4: Thì | H4: Hòa | I4: Quang | J4: Hào | K4: Quý | L4: Viết | M4: Khoa | N4: Liêm | O4: Lực | P4: TG | Q4: TG | R4: TG | S4: TỔNG
B5: HK1 | E5: ='NH18-19'!G133 -> 270 | F5: ='NH18-19'!H133 -> 367.5 | G5: ='NH18-19'!I133 -> 472.5 | H5: ='NH18-19'!J133 -> 495 | I5: ='NH18-19'!K133 -> 330 | J5: ='NH18-19'!L133 -> 457.5 | K5: ='NH18-19'!M133 -> 427.5 | L5: ='NH18-19'!N133 -> 305 | ... N5: ='NH18-19'!P133 -> 30 | O5: 0 | P5: ='NH18-19'!Q133 -> 337.5 | Q5: ='NH18-19'!R133 -> 0 | R5: ='NH18-19'!S133 -> 0 | S5: =SUM(E5:R5) -> 3867.5
B6: HK2 | E6: ='NH18-19'!AD133 -> 470 | F6: ='NH18-19'!AE133 -> 517.5 | G6: ='NH18-19'!AF133 -> 397.5 | H6: ='NH18-19'!AG133 -> 390 | I6: ='NH18-19'!AH133 -> 285 | J6: ='NH18-19'!AI133 -> 420 | K6: ='NH18-19'!AJ133 -> 337.5 | L6: ='NH18-19'!AK133 -> 360 | M6: ='NH18-19'!AL133 -> 435 | N6: ='NH18-19'!AN133 -> 150 | O6: ='NH18-19'!AM133 -> 225 | P6: ='NH18-19'!AO133 -> 510 | Q6: ='NH18-19'!AP133 -> 0 | R6: ='NH18-19'!AQ133 -> 0 | S6: =SUM(E6:R6) -> 4497.5
B7: khối lương cả năm 18-19 | E7: =E5+E6 -> 740 | F7: =F5+F6 -> 885 | G7: =G5+G6 -> 870 | H7: =H5+H6 -> 885 | I7: =I5+I6 -> 615 | J7: =J5+J6 -> 877.5 | K7: =K5+K6 -> 765 | L7: =L5+L6 -> 665 | ... R7: =R5+R6 -> 0 | S7: =SUM(E7:R7) -> 8365
C8: kiêm nghiệm | E8: =450*0.3 -> 135 | F8: =450*0.3 -> 135 | G8: 67.5 | H8: 67.5 | I8: 67.5 | J8: =450*0.3 -> 135 | K8: =67.5 -> 67.5 | L8: =450*0.35 -> 157.5 | M8: 67.5 | N8: 67.5 | O8: 0
E9: =E8+E7 -> 875 | F9: =F8+F7 -> 1020 | G9: =G8+G7 -> 937.5 | H9: =H8+H7 -> 952.5 | I9: =I8+I7 -> 682.5 | J9: =J8+J7 -> 1012.5 | K9: =K7+K8 -> 832.5 | L9: =L7+L8 -> 822.5 | M9: =M7+M8 -> 877.5 | N9: =N7+N8 -> 247.5 | O9: =O7+O8 -> 225
B12: Danh sách giáo viên thỉnh giảng
B13: Diệp Thị Lành
B14: Nguyễn Thị Út Hiền
