Workbook

Sheet NH18-19
B1: HK1 | C1: Đv | D1: KL thực/lớp | E1: Số nhóm | F1: Kl thực | G1: Hiệp | H1: Huân | I1: Thì | J1: Hòa | K1: Quang | L1: Hào | M1: Quý | N1: Viết | O1: Khoa | P1: Liêm | Q1: TG | R1: TG | S1: TG | U1: TT | V1: HK 2 | W1: số lớp | X1: Sĩ số | Y1: Nhóm | Z1: Đv | AA1: KL thực/Lớp | AB1: Số nhóm | AC1: Kl thực | AD1: Hiệp | AE1: Huân | AF1: Thì | AG1: Hòa | AH1: Quang | AI1: Hào | AJ1: Quý | AK1: Viết | AL1: Khoa | AM1: Lực | AN1: Liêm | AO1: TG | AP1: TG
B2: 16 TCN-LĐL-9+3- Hào- SS: 45 | G2: =SUM(G3:G132) -> 270 | H2: =SUM(H3:H132) -> 367.5 | I2: =SUM(I3:I132) -> 472.5 | J2: =SUM(J3:J132) -> 495 | K2: =SUM(K3:K132) -> 330 | L2: =SUM(L3:L132) -> 457.5 | M2: =SUM(M3:M132) -> 427.5 | N2: =SUM(N3:N132) -> 305 | ... P2: =SUM(P3:P132) -> 30 | R2: =SUM(R3:R132) -> 0 | S2: =SUM(S3:S132) -> 0 | V2: 16 TCN-LĐL-9+3- Hào, ss:44 | W2: 1 | X2: 6 | Y2: 1 | AD2: =SUM(AD3:AD132) -> 470 | AE2: =SUM(AE3:AE132) -> 517.5 | AF2: =SUM(AF3:AF132) -> 397.5 | AG2: =SUM(AG3:AG132) -> 390 | AH2: =SUM(AH3:AH132) -> 285 | AI2: =SUM(AI3:AI132) -> 420 | AJ2: =SUM(AJ3:AJ132) -> 337.5 | AK2: =SUM(AK3:AK132) -> 360 | ... AP2: =SUM(AP3:AP132) -> 0
A3: 1 | B3: Điện tử chuyên ngành-60 (10-47-3) | C3: 30 | D3: =C3 -> 30 | F3: =D3 -> 30 | U3: 1 | V3: Lắp đặt hệ thống Điều hòa KK cục bộ- | Z3: 120 | AA3: =Z3*0.75 -> 90 | AC3: =AA3 -> 90 | AI3: =AA3 -> 90
A4: 2 | B4: Đo lường điện lạnh-45(20-23-2) | C4: 45 | D4: =C4 -> 45 | F4: =D4 -> 45 | N4: 45 | U4: 2 | V4: Chuyên đề Máy lạnh-45(20-20-5) | Y4: 1 | Z4: 45 | AA4: =Z4 -> 45 | AC4: 45 | AD4: 45
A5: 3 | B5: Vật liệu điện lạnh-30 (26-2-2) | C5: 30 | D5: =C5 -> 30 | F5: =D5 -> 30 | K5: 30 | U5: 3 | V5: Gia công lắp đặt đường ống -60(12-45-3) | Z5: 60 | AA5: =Z5*0.75 -> 45 | AC5: =Z5*0.75 -> 45 | AJ5: =AA5 -> 45
A6: 4 | B6: Bơm quạt máy nén-30 (18-10-2) | C6: 30 | D6: =C6 -> 30 | F6: =D6 -> 30 | G6: 30 | U6: 4 | V6: TT Tốt nghiệp | Z6: 165 | AA6: =Z6 -> 165
A7: 5 | B7: Auto cad-30 (14-15-1) | C7: 30 | D7: =C7 -> 30 | F7: =D7 -> 30 | H7: 30 | U7: 5 | V7: Điện tử công suất (15-28-2) 45t | Z7: 45 | AA7: =Z7 -> 45 | AQ7: a thif muoons dayj 16 TCN-LDDL
A8: 6 | B8: Lắp đặt hệ thống máy lạnh dân dụng-150 | C8: 150 | D8: =C8*0.75 -> 112.5 | F8: =D8 -> 112.5 | I8: =F8 -> 112.5 | U8: 6 | V8: Pháp luật -15t | Z8: 15t
A9: 7 | B9: Điều hòa không khí ôtô-30 (13-15-2) | C9: 30 | D9: =C9 -> 30 | F9: =D9 -> 30 | I9: 30 | U9: 7 | V9: PLC-60(10-47-3)-60t | Z9: 60t
A10: 8 | B10: Chính trị | C10: 30t
A11: 9 | B11: GD Quốc phòng-An ninh | C11: 120t
D12: =C12 -> 0
B13: 16CD 1,2,3 -Phong -Liêm -Quang SS: 51-45-41 | C13: Đv | D13: KL thực/lớp | F13: Kl thực | G13: Hiệp | H13: Huân,2 | I13: Thì,2,3 | J13: Hòa,1,3 | K13: Quang | L13: Hào | M13: Quý | N13: Viết | O13: Khoa | P13: Liêm | Q13: TG | R13: TG | S13: TG | V13: 16CD 1,2,3 -Quang- Hào, ss:51-45-41 | W13: 3 | X13: 113 | Y13: 4 | Z13: Đv | AA13: KL thực/lớp | AC13: Kl thực | AD13: Hiệp,1 | AE13: Huân | AF13: Thì | AG13: Hòa | AH13: Quang | AI13: Hào | AJ13: Quý | AK13: Viết | AL13: Khoa | AM13: Lực | AN13: Liêm | AO13: TG | AP13: TG
A14: 1 | B14: KT Sấy -2 | C14: 30 | D14: =C14 -> 30 | F14: =D14*3 -> 90 | N14: =F14 -> 90 | U14: 1 | V14: Thực tập HT điều hòa không khí ô tô | Z14: 30 | AA14: =Z14*0.75 -> 22.5 | AC14: =AA14*3 -> 67.5 | AF14: =AC14 -> 67.5
A15: 2 | B15: Vận hành & Bảo trì HTL- 2 | C15: 30 | D15: =C15 -> 30 | F15: =D15*3 -> 90 | K15: =F15 -> 90 | U15: 2 | V15: Kỹ thuật lạnh ứng dụng | Z15: 30 | AA15: =Z15 -> 30 | AC15: =AA15*3 -> 90 | AD15: 30 | AF15: =AA15*2 -> 60
A16: 3 | B16: Xây dựng trạm lạnh-2 | C16: 30 | D16: =C16 -> 30 | F16: =D16*3 -> 90 | O16: =F16 -> 90 | U16: 3 | V16: Đồ án chuyên ngành | Z16: 25 | AA16: =Z16 -> 25 | AC16: =AA16*3 -> 75 | AK16: =AC16 -> 75
A17: 4 | B17: TT Trang bị điện HTL-3 | C17: 90 | D17: =C17*0.75 -> 67.5 | F17: =D17*3 -> 202.5 | H17: =C17*0.75 -> 67.5 | J17: =D17*2 -> 135 | U17: 4 | V17: Thực tập tốt nghiệp | Z17: 120 | AA17: =Z17 -> 120
A18: 5 | B18: TT Vận hành bảo trì & SC HTL công nghiệp-3 | C18: 90 | D18: =C18*0.75 -> 67.5 | F18: =D18*3 -> 202.5 | H18: =F18 -> 202.5 | U18: 5 | V18: Phương pháp NCKH | Z18: 30 | AA18: =Z18 -> 30 | AC18: =AA18*3 -> 90 | AD18: =AC18 -> 90
A19: 6 | B19: TT Lắp đặt HTL-3 | C19: 90 | D19: =C19*0.75 -> 67.5 | F19: =D19*3 -> 202.5 | I19: =D19*2 -> 135 | Q19: =D19 -> 67.5 | R19: Thiện
A20: 7 | B20: Anh văn chuyên ngành-2 | C20: 30t | D20: =C20 -> 30t
B21: 17 T4- TCN-LĐL1,2 -9+3- Huân, Quí | C21: Đv | D21: KL thực/lớp | F21: Kl thực | G21: Hiệp | H21: Huân | I21: Thì | J21: Hòa | K21: Quang | L21: Hào,1 | M21: Quý,2 | N21: Viết,2 | O21: Khoa,1 | P21: Liêm | Q21: TG | R21: TG | S21: TG | V21: 17 T4- TCN -LĐL1,2 9+3- Huân,Quý, ss:40-37 | W21: 3 | Z21: Đv | AA21: KL thực/lớp | AC21: Kl thực | AD21: Hiệp | AE21: Huân,1 | AF21: Thì | AG21: Hòa,2 | AH21: Quang,1 | AI21: Hào | AJ21: Quý,2 | AK21: Viết | AL21: Khoa,2 | AM21: Lực | AN21: Liêm | AO21: TG | AP21: TG
A22: 1 | B22: Hoá học 1 | U22: 1 | V22: Hoá học 2
A23: 2 | B23: Toán 3 | U23: 2 | V23: Toán 4
A24: 3 | B24: Ngữ văn 3 | U24: 3 | V24: Ngữ văn 4
A25: 4 | B25: Vật lý 2 | U25: 4 | V25: Vật lý 3
A26: 5 | B26: Cơ sở nhiệt động kỹ thuật và truyền nhiệt | C26: 60 | D26: =C26 -> 60 | F26: =D26*2 -> 120 | N26: =D26 -> 60 | O26: =C26 -> 60 | U26: 5 | V26: Trang bị điện hệ thống lạnh | Z26: 30 | AA26: =Z26 -> 30 | AC26: =AA26*2 -> 60 | AI26: =AA26 -> 30 | AJ26: =AA26 -> 30
A27: 6 | B27: Thực tập Lạnh cơ bản | C27: 90 | D27: =C27*0.75 -> 67.5 | F27: =D27*2 -> 135 | L27: =D27 -> 67.5 | M27: =D27 -> 67.5 | U27: 6 | V27: Kỹ thuật điều hoà không khí | Z27: 45 | AA27: =Z27 -> 45 | AC27: =AA27*2 -> 90 | AL27: =AA27 -> 45 | AO27: =AA27 -> 45 | AP27: Lành,1 | AQ27: tập trung 1 Buổi chiều
A28: 7 | B28: Tin học 4(2/2) | U28: 7 | V28: Thực tập hệ thống điều hoà không khí cục bộ | Z28: 90 | AA28: =Z28*0.75 -> 67.5 | AC28: =AA28*2 -> 135 | AE28: =AA28 -> 67.5 | AG28: =AA28 -> 67.5
A29: 8 | U29: 8 | V29: Anh văn- 60
B30: 17 T4- TCN-CNL1 -9+3-Khoa | C30: Đv | D30: KL thực/lớp | F30: Kl thực | G30: Hiệp | H30: Huân | I30: Thì | J30: Hòa | K30: Quang | L30: Hào | M30: Quý | N30: Viết | O30: Khoa | P30: Liêm | Q30: TG | R30: TG | S30: TG | V30: 17 T4- TCN -CNL1-9+3- Khoa, ss:49 | W30: 3 | Z30: Đv | AA30: KL thực/lớp | AC30: Kl thực | AD30: Hiệp | AE30: Huân | AF30: Thì | AG30: Hòa | AH30: Quang | AI30: Hào | AJ30: Quý | AK30: Viết | AL30: Khoa | AM30: Lực | AN30: Liêm | AO30: TG | AP30: TG
A31: 1 | B31: Hoá học 1 | U31: 1 | V31: Hoá học 2
A32: 2 | B32: Toán 3 | U32: 2 | V32: Toán 4
A33: 3 | B33: Ngữ văn 3 | U33: 3 | V33: Ngữ văn 4
A34: 4 | B34: Vật lý 2 | U34: 4 | V34: Vật lý 3
A35: 5 | B35: Cơ sở nhiệt động kỹ thuật và truyền nhiệt | C35: 60 | D35: =C35 -> 60 | F35: 60 | N35: =C35 -> 60 | U35: 5 | V35: Trang bị điện hệ thống lạnh | Z35: 30 | AA35: =Z35 -> 30 | AC35: =AA35 -> 30 | AI35: =AA35 -> 30 | AQ35: t7 | AR35: nhiệt động
A36: 6 | B36: Thực tập Lạnh cơ bản | C36: 90 | D36: =C36*0.75 -> 67.5 | F36: =C36*0.75 -> 67.5 | M36: =F36 -> 67.5 | U36: 6 | V36: Kỹ thuật điều hoà không khí | Z36: 45 | AA36: =Z36 -> 45 | AC36: =AA36 -> 45 | AO36: =AA36 -> 45 | AP36: Lành | AQ36: t7 | AR36: Chuyên đề máy lạnh
A37: 7 | B37: Tin học 4(2/2) | U37: 7 | V37: Thực tập hệ thống điều hoà không khí cục bộ | Z37: 90 | AA37: =Z37*0.75 -> 67.5 | AC37: =AA37 -> 67.5 | AE37: =AA37 -> 67.5
A38: 8 | U38: 8 | V38: Anh văn- 60
B39: 17 CD-CNL-1-Viết SS: 59 | C39: Đv | D39: KL thực/lớp | F39: Kl thực | G39: Hiệp | H39: Huân | I39: Thì | J39: Hòa | K39: Quang | L39: Hào | M39: Quý | N39: Viết | O39: Khoa | P39: Liêm | Q39: TG | R39: TG | S39: TG | V39: 17 CD-CNL1, 58 | W39: 3 | Z39: Đv | AA39: KL thực/lớp | AC39: Kl thực | AD39: Hiệp | AE39: Huân | AF39: Thì | AG39: Hòa | AH39: Quang | AI39: Hào | AJ39: Quý | AK39: Viết | AL39: Khoa | AM39: Lực | AN39: Liêm | AO39: TG | AP39: TG
A40: 1 | B40: Pháp luật | U40: 1 | V40: Vận hành bảo trì hệ thống lạnh | W40: 1 | X40: DÀNH CNL | Z40: 45 | AA40: =Z40 -> 45 | AC40: =AA40 -> 45 | AH40: 45
...

Sheet Sheet1
E4: Hiệp | F4: Huân | G4: Thì | H4: Hòa | I4: Quang | J4: Hào | K4: Quý | L4: Viết | M4: Khoa | N4: Liêm | O4: Lực | P4: TG | Q4: TG | R4: TG | S4: TỔNG
B5: HK1 | E5: ='NH18-19'!G133 -> 270 | F5: ='NH18-19'!H133 -> 367.5 | G5: ='NH18-19'!I133 -> 472.5 | H5: ='NH18-19'!J133 -> 495 | I5: ='NH18-19'!K133 -> 330 | J5: ='NH18-19'!L133 -> 457.5 | K5: ='NH18-19'!M133 -> 427.5 | L5: ='NH18-19'!N133 -> 305 | ... N5: ='NH18-19'!P133 -> 30 | O5: 0 | P5: ='NH18-19'!Q133 -> 337.5 | Q5: ='NH18-19'!R133 -> 0 | R5: ='NH18-19'!S133 -> 0 | S5: =SUM(E5:R5) -> 3867.5
B6: HK2 | E6: ='NH18-19'!AD133 -> 470 | F6: ='NH18-19'!AE133 -> 517.5 | G6: ='NH18-19'!AF133 -> 397.5 | H6: ='NH18-19'!AG133 -> 390 | I6: ='NH18-19'!AH133 -> 285 | J6: ='NH18-19'!AI133 -> 420 | K6: ='NH18-19'!AJ133 -> 337.5 | L6: ='NH18-19'!AK133 -> 360 | M6: ='NH18-19'!AL133 -> 435 | N6: ='NH18-19'!AN133 -> 150 | O6: ='NH18-19'!AM133 -> 225 | P6: ='NH18-19'!AO133 -> 510 | Q6: ='NH18-19'!AP133 -> 0 | R6: ='NH18-19'!AQ133 -> 0 | S6: =SUM(E6:R6) -> 4497.5
B7: khối lương cả năm 18-19 | E7: =E5+E6 -> 740 | F7: =F5+F6 -> 885 | G7: =G5+G6 -> 870 | H7: =H5+H6 -> 885 | I7: =I5+I6 -> 615 | J7: =J5+J6 -> 877.5 | K7: =K5+K6 -> 765 | L7: =L5+L6 -> 665 | ... R7: =R5+R6 -> 0 | S7: =SUM(E7:R7) -> 8365
C8: kiêm nghiệm | E8: =450*0.3 -> 135 | F8: =450*0.3 -> 135 | G8: 67.5 | H8: 67.5 | I8: 67.5 | J8: =450*0.3 -> 135 | K8: =67.5 -> 67.5 | L8: =450*0.35 -> 157.5 | M8: 67.5 | N8: 67.5 | O8: 0
E9: =E8+E7 -> 875 | F9: =F8+F7 -> 1020 | G9: =G8+G7 -> 937.5 | H9: =H8+H7 -> 952.5 | I9: =I8+I7 -> 682.5 | J9: =J8+J7 -> 1012.5 | K9: =K7+K8 -> 832.5 | L9: =L7+L8 -> 822.5 | M9: =M7+M8 -> 877.5 | N9: =N7+N8 -> 247.5 | O9: =O7+O8 -> 225
B12: Danh sách giáo viên thỉnh giảng
B13: Diệp Thị Lành
B14: Nguyễn Thị Út Hiền
